BEGIN:VCALENDAR
VERSION:2.0
PRODID:-//wp-events-plugin.com//6.6.4.4//EN
TZID:America/New_York
X-WR-TIMEZONE:America/New_York
BEGIN:VEVENT
UID:25@forgeimpact.org
DTSTART;TZID=America/New_York:20240220T140000
DTEND;TZID=America/New_York:20240220T160000
DTSTAMP:20240123T192843Z
URL:https://forgeimpact.org/events/pearse-bertram-streamline-contract-manu
 facturing-facility-tour-by-forge/
SUMMARY:Pearse Bertram+ Facility Tour by FORGE: Streamline Contract Manufac
 turing
DESCRIPTION:Join FORGE on an exclusive tour of Pearse Bertram's facility! D
 iscover how working with a state-of-the-art contract manufacturer can take
  your business from prototype to production. Come and discuss common pitfa
 lls\, best practices\, and tips and tricks for selecting and working with 
 the right-fit contract manufacturing partner. Don't miss out on this uniqu
 e opportunity! Register here.\n\n\n\n\n\n\n\n\n\n\n\n\n\nJoin us for Happy
  Hour next door immediately following the tour!\n\n\n\n\n\n\n\n\n\n\n\n\n\
 n(Thomas Hooker Brewery\, 16 Tobey Rd\, Bloomfield\, CT 06002 - 2 minute w
 alk from facility)
ATTACH;FMTTYPE=image/jpeg:https://forgeimpact.org/wp-content/uploads/2024/
 01/Pearse-Bertram-Streamline-Contract-Mfg.-Facility-Tour-by-FORGE-3-copy-2
 .png
LOCATION:Pearse Bertram+ Facility\, 18 Tobey Rd\, Bloomfield\, CT\, 06002\,
  United States
X-APPLE-STRUCTURED-LOCATION;VALUE=URI;X-ADDRESS=18 Tobey Rd\, Bloomfield\, 
 CT\, 06002\, United States;X-APPLE-RADIUS=100;X-TITLE=Pearse Bertram+ Faci
 lity:geo:0,0
END:VEVENT
BEGIN:VTIMEZONE
TZID:America/New_York
X-LIC-LOCATION:America/New_York
BEGIN:STANDARD
DTSTART:20231105T010000
TZOFFSETFROM:-0400
TZOFFSETTO:-0500
TZNAME:EST
END:STANDARD
END:VTIMEZONE
END:VCALENDAR